BEGIN:VCALENDAR
VERSION:2.0
PRODID:-//wp-events-plugin.com//7.2.3.1//EN
TZID:Europe/Berlin
X-WR-TIMEZONE:Europe/Berlin
BEGIN:VEVENT
UID:35@muenchner-literaturbuero.de
DTSTART;TZID=Europe/Berlin:20210326T193000
DTEND;TZID=Europe/Berlin:20210326T193000
DTSTAMP:20210324T070250Z
URL:https://muenchner-literaturbuero.de/veranstaltung/2001-lesung-simon-ge
 rhol/
SUMMARY:2001. Lesung – Simon Gerhol
DESCRIPTION:Simon Gerhol liest Neues aus ›Gedanken(t)raumfutter: Aphorism
 en und k(l)eine Gedichte‹ und stellt ›Göttersprung‹ vor\, antike My
 then ins Jetzt transformiert.
ATTACH;FMTTYPE=image/jpeg:https://muenchner-literaturbuero.de/wp-content/u
 ploads/2021/02/simongerhol.jpg
LOCATION:https://muenchner-literaturbuero.de
END:VEVENT
BEGIN:VTIMEZONE
TZID:Europe/Berlin
X-LIC-LOCATION:Europe/Berlin
BEGIN:STANDARD
DTSTART:20201025T020000
TZOFFSETFROM:+0200
TZOFFSETTO:+0100
TZNAME:CET
END:STANDARD
END:VTIMEZONE
END:VCALENDAR